BEGIN:VCALENDAR
PRODID:NingEventWidget-v1
VERSION:2.0
METHOD:PUBLISH
BEGIN:VTIMEZONE
TZID:Europe/Paris
X-LIC-LOCATION:Europe/Paris
BEGIN:DAYLIGHT
TZOFFSETFROM:+0100
TZOFFSETTO:+0200
TZNAME:CEST
DTSTART:19700329T020000
RRULE:FREQ=YEARLY;BYMONTH=3;BYDAY=-1SU
END:DAYLIGHT
BEGIN:STANDARD
TZOFFSETFROM:+0200
TZOFFSETTO:+0100
TZNAME:CET
DTSTART:19701025T030000
RRULE:FREQ=YEARLY;BYMONTH=10;BYDAY=-1SU
END:STANDARD
END:VTIMEZONE
BEGIN:VEVENT
UID:3295325:Event:911972
DTSTAMP:20260419T155110Z
SUMMARY:Workshop cartoontekenen
DESCRIPTION:CARTOONACADEMY & BEELDINGENIEUR presenteren: WORKSHOP CART
 OONTEKENEN, ILLUSTREREN, MINIMALISTISCH TEKENEN, VISUAL THINKING.  Loc
 atie : le Mathey Beaudot in het hart van de Bourgogne, 25 km van Beaun
 e.  www.cartoonacademy.eu , www.beeldingenieur.eu. Een unieke en orgin
 ele cursus in een bijzondere omgeving.   cursus 1: van 28 Juli t/m 3 A
 ugustus. (Zondag arriveren, zaterdag vertrek) cursus 2: van 4 t/m 10 A
 ugustus. (Zondag arriveren, zaterdag vertrek)   Cursusleider: Eric Sim
 ons Eric Simons heeft veel ervaring in lesgeven met de Cartoonacademy 
 en Beeldingenieur. De Cartoonacademy geeft les in het tekenen van cart
 oons en illustraties. In vele oefeningen gaan we aan de slag met aller
 lei beeldelementen, en vervolgens maken we eindcartoons en –illustra
 ties. Beeldingenieur geeft o.a les in beeldbewustzijn, en in het maken
  van visuele rapporten en -verslagen. Beeldingenieur geeft (ook) les i
 n methodes die geschikt zijn voor organisaties en bedrijfsleven.(Zie d
 e website www.beeldingenieur.eu) Programma: Zondag aankomst, kennismak
 ing en welkomstdiner. Maandag tot en met vrijdag les van 9.00 – 13.0
 0 uur. Tijdens de lessen wordt aandacht besteed aan alle bovengenoemde
  aspecten. Na de lunch vrij programma. Er bestaat de mogelijkheid om s
 'middags onder begeleiding van de docent door te werken. Prijs: Voor e
 en eenpersoons kamer ligt de prijs tussen de 492,50 en € 552,50 euro
  Voor een tweepersoons kamer is de prijs €467,50 per persoon. Prijze
 n zijn inclusief : cursusgeld 6 xontbijt en 5 x lunch koffie en thee o
 verdag welkomstdiner Contact: Informatie over verblijf en reserveringe
 n: matheybeaudot@gmail.com Informatie over cursus: contact.cartoonacad
 emy@gmail.com, ericsimons1@live.nl, beeldingenieur@gmail.com. De websi
 te van illustrator Cemonc (Eric Simons) is www.cemonc.eu  www.matheybe
 audot.com\n\nZie voor meer informatie https://www.nederlanders.fr/even
 ts/workshop-cartoontekenen
DTSTART;TZID=Europe/Paris:20190728T000000
DTEND;TZID=Europe/Paris:20190810T235900
CATEGORIES:workshop, cartoontekenen
LOCATION:le Mathey Beaudot
WEBSITE:https://www.google.com/maps/search/mathey+beaudot/@46.890068,4
 .5294863,15z
URL:https://www.google.com/maps/search/mathey+beaudot/@46.890068,4.529
 4863,15z
CONTACT:+31655151086
ORGANIZER:Eric Simons
ATTACH;FMTTYPE="image/jpeg":https://storage.ning.com/topology/rest/1.0
 /file/get/858121962?profile=original
ATTENDEE;ROLE=REQ-PARTICIPANT;PARTSTAT=ACCEPTED;RSVP=TRUE;CN="Maarten 
 Dekkers":https://www.nederlanders.fr/profile/MaartenDekkers
END:VEVENT
END:VCALENDAR
